BEGIN:VCALENDAR
PRODID:Mohanlal Live in Ireland
VERSION:2.0
METHOD:PUBLISH
BEGIN:VEVENT
SUMMARY;CHARSET=utf-8:Mohanlal Live in Ireland - tickets on sale
DESCRIPTION;CHARSET=utf-8:Mohanlal Live in Ireland - tickets on sale
LOCATION;CHARSET=utf-8:3Arena
UID:mohanlal-live-in-ireland-20260424T100000@3arena
URL:https://3arena.ie/events/mohanlal-live-in-ireland
DTSTART;VALUE=DATE:20260424T100000
DTSTAMP:20260424T100000
END:VEVENT
END:VCALENDAR